{
 "currentVersion": 10.91,
 "cimVersion": "2.9.0",
 "serviceDescription": "",
 "mapName": "Shaded Relief 2019 Basemap",
 "description": "",
 "copyrightText": "",
 "supportsDynamicLayers": true,
 "layers": [
  {
   "id": 0,
   "name": "Shaded Relief 2019",
   "parentLayerId": -1,
   "defaultVisibility": true,
   "subLayerIds": null,
   "minScale": 0,
   "maxScale": 0,
   "type": "Raster Layer",
   "supportsDynamicLegends": true
  }
 ],
 "tables": [],
 "spatialReference": {
  "wkid": 103129,
  "latestWkid": 6549,
  "xyTolerance": 0.003280833333333333,
  "zTolerance": 0.001,
  "mTolerance": 0.001,
  "falseX": -118963900,
  "falseY": -96373800,
  "xyUnits": 3048.0060960121928,
  "falseZ": -100000,
  "zUnits": 10000,
  "falseM": -100000,
  "mUnits": 10000
 },
 "singleFusedMapCache": true,
 "tileInfo": {
  "rows": 256,
  "cols": 256,
  "dpi": 96,
  "format": "MIXED",
  "compressionQuality": 75,
  "origin": {
   "x": -118963900,
   "y": 145491000
  },
  "spatialReference": {
   "wkid": 103129,
   "latestWkid": 6549,
   "xyTolerance": 0.003280833333333333,
   "zTolerance": 0.001,
   "mTolerance": 0.001,
   "falseX": -118963900,
   "falseY": -96373800,
   "xyUnits": 3.7240637144144125E7,
   "falseZ": -100000,
   "zUnits": 10000,
   "falseM": -100000,
   "mUnits": 10000
  },
  "lods": [
   {
    "level": 0,
    "resolution": 868.0555555555555,
    "scale": 1000000
   },
   {
    "level": 1,
    "resolution": 434.02777777777777,
    "scale": 500000
   },
   {
    "level": 2,
    "resolution": 217.01388888888889,
    "scale": 250000
   },
   {
    "level": 3,
    "resolution": 86.80555555555556,
    "scale": 100000
   },
   {
    "level": 4,
    "resolution": 55,
    "scale": 63360
   },
   {
    "level": 5,
    "resolution": 41.666666666666664,
    "scale": 48000
   },
   {
    "level": 6,
    "resolution": 31.25,
    "scale": 36000
   },
   {
    "level": 7,
    "resolution": 20.833333333333332,
    "scale": 24000
   },
   {
    "level": 8,
    "resolution": 10.416666666666666,
    "scale": 12000
   },
   {
    "level": 9,
    "resolution": 8.333333333333332,
    "scale": 9600
   },
   {
    "level": 10,
    "resolution": 6.25,
    "scale": 7200
   },
   {
    "level": 11,
    "resolution": 5.208333333333333,
    "scale": 6000
   },
   {
    "level": 12,
    "resolution": 4.166666666666666,
    "scale": 4800
   },
   {
    "level": 13,
    "resolution": 3.125,
    "scale": 3600
   },
   {
    "level": 14,
    "resolution": 2.083333333333333,
    "scale": 2400
   },
   {
    "level": 15,
    "resolution": 1.5625,
    "scale": 1800
   },
   {
    "level": 16,
    "resolution": 1.0416666666666665,
    "scale": 1200
   },
   {
    "level": 17,
    "resolution": 0.8333333333333333,
    "scale": 960
   },
   {
    "level": 18,
    "resolution": 0.625,
    "scale": 720
   },
   {
    "level": 19,
    "resolution": 0.5208333333333333,
    "scale": 600
   },
   {
    "level": 20,
    "resolution": 0.41666666666666663,
    "scale": 480
   },
   {
    "level": 21,
    "resolution": 0.3125,
    "scale": 360
   },
   {
    "level": 22,
    "resolution": 0.20833333333333331,
    "scale": 240
   },
   {
    "level": 23,
    "resolution": 0.10416666666666666,
    "scale": 120
   },
   {
    "level": 24,
    "resolution": 0.05208333333333333,
    "scale": 60
   }
  ]
 },
 "storageInfo": {
  "storageFormat": "esriMapCacheStorageModeCompactV2",
  "packetSize": 128
 },
 "initialExtent": {
  "xmin": 2128362.691414992,
  "ymin": 478437.42000000004,
  "xmax": 2214136.2985850084,
  "ymax": 540314.07,
  "spatialReference": {
   "wkid": 103129,
   "latestWkid": 6549,
   "xyTolerance": 0.003280833333333333,
   "zTolerance": 0.001,
   "mTolerance": 0.001,
   "falseX": -118963900,
   "falseY": -96373800,
   "xyUnits": 3048.0060960121928,
   "falseZ": -100000,
   "zUnits": 10000,
   "falseM": -100000,
   "mUnits": 10000
  }
 },
 "fullExtent": {
  "xmin": 2154999.995,
  "ymin": 481249.995,
  "xmax": 2196249.995,
  "ymax": 529999.995,
  "spatialReference": {
   "wkid": 103129,
   "latestWkid": 6549,
   "xyTolerance": 0.003280833333333333,
   "zTolerance": 0.001,
   "mTolerance": 0.001,
   "falseX": -118963900,
   "falseY": -96373800,
   "xyUnits": 3048.0060960121928,
   "falseZ": -100000,
   "zUnits": 10000,
   "falseM": -100000,
   "mUnits": 10000
  }
 },
 "datesInUnknownTimezone": false,
 "minScale": 1000000,
 "maxScale": 60,
 "minLOD": 0,
 "maxLOD": 24,
 "units": "esriFeet",
 "supportedImageFormatTypes": "PNG32,PNG24,PNG,JPG,DIB,TIFF,EMF,PS,PDF,GIF,SVG,SVGZ,BMP",
 "documentInfo": {
  "Title": "N:\\Mark_Johnson\\GIS\\Projects\\ArcReader\\ArcReader.aprx",
  "Author": "",
  "Comments": "",
  "Subject": "",
  "Category": "",
  "AntialiasingMode": "None",
  "TextAntialiasingMode": "Force",
  "Version": "2.9.0",
  "Keywords": "test"
 },
 "capabilities": "Map",
 "supportedQueryFormats": "JSON, geoJSON, PBF",
 "exportTilesAllowed": false,
 "referenceScale": 0.0,
 "datumTransformations": [
  {
   "geoTransforms": [
    {
     "wkid": 108190,
     "latestWkid": 108190,
     "transformForward": false,
     "name": "WGS_1984_(ITRF00)_To_NAD_1983"
    },
    {
     "wkid": 108363,
     "latestWkid": 108363,
     "transformForward": true,
     "name": "WGS_1984_(ITRF08)_To_NAD_1983_2011"
    }
   ]
  },
  {
   "geoTransforms": [
    {
     "wkid": 108363,
     "latestWkid": 108363,
     "transformForward": false,
     "name": "WGS_1984_(ITRF08)_To_NAD_1983_2011"
    },
    {
     "wkid": 108190,
     "latestWkid": 108190,
     "transformForward": true,
     "name": "WGS_1984_(ITRF00)_To_NAD_1983"
    }
   ]
  },
  {
   "geoTransforms": [
    {
     "wkid": 108363,
     "latestWkid": 108363,
     "transformForward": true,
     "name": "WGS_1984_(ITRF08)_To_NAD_1983_2011"
    }
   ]
  },
  {
   "geoTransforms": [
    {
     "wkid": 108363,
     "latestWkid": 108363,
     "transformForward": false,
     "name": "WGS_1984_(ITRF08)_To_NAD_1983_2011"
    }
   ]
  }
 ],
 "supportsDatumTransformation": true,
 "floorAwareMapProperties": {
  "defaultFloorFilterSettings": {
   "isEnabled": true
  }
 },
 "archivingInfo": {
  "supportsHistoricMoment": false
 },
 "supportsClipping": true,
 "supportsSpatialFilter": true,
 "supportsTimeRelation": true,
 "supportsQueryDataElements": true,
 "maxRecordCount": 5000,
 "maxImageHeight": 4096,
 "maxImageWidth": 4096,
 "supportedExtensions": "",
 "serviceItemId": "fccb08a2352744d883ad4da01b662c9f"
}
